Workbook

Sheet Power gen & cap by state & src
A1: State | B1: State code | C1: Source | D1: Power generation (7/2012) | E1: Capacity
A2: Alabama | B2: AL | C2: Coal | D2: 5589 | E2: 11441
A3: Alaska | B3: AK | C3: Coal | D3: 43 | E3: 111
A4: Arizona | B4: AZ | C4: Coal | D4: 3482 | E4: 6233
A5: Arkansas | B5: AR | C5: Coal | D5: 2461 | E5: 4535
A6: California | B6: CA | C6: Coal | D6: 150 | E6: 374
A7: Colorado | B7: CO | C7: Coal | D7: 3455 | E7: 5702
A8: Connecticut | B8: CT | C8: Coal | D8: 19 | E8: 564
A9: Delaware | B9: DE | C9: Coal | D9: 220 | E9: 1054
A10: District of Columbia | B10: DC | C10: Coal | D10: 0 | E10: 0
A11: Florida | B11: FL | C11: Coal | D11: 4754 | E11: 9975
A12: Georgia | B12: GA | C12: Coal | D12: 5090 | E12: 13230
A13: Hawaii | B13: HI | C13: Coal | D13: 136 | E13: 180
... A358: Wyoming | B358: WY | C358: All Sources | D358: 4055 | E358: 7986

Sheet State, Region and Division
A1: State | B1: State code | C1: Census region | D1: Census Division | E1: Tornadoes in last 10 years
A2: Alabama | B2: AL | C2: South | D2: East South Central | E2: =VLOOKUP(B2,Sheet3!B1:M52,12,0) -> 13
A3: Alaska | B3: AK | C3: West | D3: Pacific | E3: =VLOOKUP(B3,Sheet3!B2:M53,12,0) -> 0
A4: Arizona | B4: AZ | C4: West | D4: Mountain | E4: =VLOOKUP(B4,Sheet3!B3:M54,12,0) -> 0
A5: Arkansas | B5: AR | C5: South | D5: West South Central | E5: =VLOOKUP(B5,Sheet3!B4:M55,12,0) -> 2
A6: California | B6: CA | C6: West | D6: Pacific | E6: =VLOOKUP(B6,Sheet3!B5:M56,12,0) -> 0
A7: Colorado | B7: CO | C7: West | D7: Mountain | E7: =VLOOKUP(B7,Sheet3!B6:M57,12,0) -> 0
A8: Connecticut | B8: CT | C8: Northeast | D8: New England | E8: =VLOOKUP(B8,Sheet3!B7:M58,12,0) -> 0
A9: Delaware | B9: DE | C9: South | D9: South Atlantic | E9: =VLOOKUP(B9,Sheet3!B8:M59,12,0) -> 0
A10: District of Columbia | B10: DC | C10: South | D10: South Atlantic | E10: =VLOOKUP(B10,Sheet3!B9:M60,12,0) -> 0
A11: Florida | B11: FL | C11: South | D11: South Atlantic | E11: =VLOOKUP(B11,Sheet3!B10:M61,12,0) -> 0
A12: Georgia | B12: GA | C12: South | D12: South Atlantic | E12: =VLOOKUP(B12,Sheet3!B11:M62,12,0) -> 2
A13: Hawaii | B13: HI | C13: West | D13: Pacific | E13: =VLOOKUP(B13,Sheet3!B12:M63,12,0) -> 0
... A52: Wyoming | B52: WY | C52: West | D52: Mountain | E52: =VLOOKUP(B52,Sheet3!B51:M102,12,0) -> 0

Sheet Tornado incidence
A1: Region | B1: Number of tornadoes in last ten years
A2: New England | B2: =SUMIF('State, Region and Division'!D2:E52,'Tornado incidence'!A2,'State, Region and Division'!E2:E52) -> 0
A3: Middle Atlantic | B3: =SUMIF('State, Region and Division'!D3:E53,'Tornado incidence'!A3,'State, Region and Division'!E3:E53) -> 0
A4: East North Central | B4: =SUMIF('State, Region and Division'!D4:E54,'Tornado incidence'!A4,'State, Region and Division'!E4:E54) -> 4
A5: West North Central | B5: =SUMIF('State, Region and Division'!D5:E55,'Tornado incidence'!A5,'State, Region and Division'!E5:E55) -> 30
A6: South Atlantic | B6: =SUMIF('State, Region and Division'!D6:E56,'Tornado incidence'!A6,'State, Region and Division'!E6:E56) -> 3
A7: East South Central | B7: =SUMIF('State, Region and Division'!D7:E57,'Tornado incidence'!A7,'State, Region and Division'!E7:E57) -> 12
A8: West South Central | B8: =SUMIF('State, Region and Division'!D8:E58,'Tornado incidence'!A8,'State, Region and Division'!E8:E58) -> 9
A9: Mountain | B9: =SUMIF('State, Region and Division'!D9:E59,'Tornado incidence'!A9,'State, Region and Division'!E9:E59) -> 0
A10: Pacific | B10: =SUMIF('State, Region and Division'!D10:E60,'Tornado incidence'!A10,'State, Region and Division'!E10:E60) -> 0

Sheet Sheet3
A1: State | B1: State code | C1: 2002 | D1: 2003 | E1: 2004 | F1: 2005 | G1: 2006 | H1: 2007 | I1: 2008 | J1: 2009 | K1: 2010 | L1: 2011 | M1: Total
A2: Alabama | B2: AL | H2: 2 | I2: 2 | K2: 1 | L2: 8 | M2: =SUM(C2:L2) -> 13
A3: Alaska | B3: AK | M3: =SUM(C3:L3) -> 0
A4: Arizona | B4: AZ | M4: =SUM(C4:L4) -> 0
A5: Arkansas | B5: AR | I5: 1 | L5: 1 | M5: =SUM(C5:L5) -> 2
A6: California | B6: CA | M6: =SUM(C6:L6) -> 0
A7: Colorado | B7: CO | M7: =SUM(C7:L7) -> 0
A8: Connecticut | B8: CT | M8: =SUM(C8:L8) -> 0
A9: Delaware | B9: DE | M9: =SUM(C9:L9) -> 0
A10: District of Columbia | B10: DC | M10: =SUM(C10:L10) -> 0
A11: Florida | B11: FL | M11: =SUM(C11:L11) -> 0
A12: Georgia | B12: GA | I12: 1 | L12: 1 | M12: =SUM(C12:L12) -> 2
A13: Hawaii | B13: HI | M13: =SUM(C13:L13) -> 0
A14: Idaho | B14: ID | M14: =SUM(C14:L14) -> 0
A15: Illinois | B15: IL | D15: 1 | E15: 1 | M15: =SUM(C15:L15) -> 2
A16: Indiana | B16: IN | M16: =SUM(C16:L16) -> 0
A17: Iowa | B17: IA | I17: 1 | K17: 1 | L17: 1 | M17: =SUM(C17:L17) -> 3
A18: Kansas | B18: KS | D18: 1 | E18: 1 | H18: 2 | I18: 2 | M18: =SUM(C18:L18) -> 6
A19: Kentucky | B19: KY | F19: 1 | M19: =SUM(C19:L19) -> 1
A20: Louisiana | B20: LA | K20: 1 | M20: =SUM(C20:L20) -> 1
A21: Maine | B21: ME | M21: =SUM(C21:L21) -> 0
A22: Maryland | B22: MD | C22: 1 | M22: =SUM(C22:L22) -> 1
A23: Massachusetts | B23: MA | M23: =SUM(C23:L23) -> 0
A24: Michigan | B24: MI | M24: =SUM(C24:L24) -> 0
A25: Minnesota | B25: MN | K25: 3 | M25: =SUM(C25:L25) -> 3
A26: Mississippi | B26: MS | K26: 1 | L26: 3 | M26: =SUM(C26:L26) -> 4
A27: Missouri | B27: MO | C27: 1 | D27: 2 | E27: 1 | G27: 2 | I27: 1 | L27: 2 | M27: =SUM(C27:L27) -> 9
A28: Montana | B28: MT | M28: =SUM(C28:L28) -> 0
A29: Nebraska | B29: NE | D29: 1 | E29: 1 | M29: =SUM(C29:L29) -> 2
A30: Nevada | B30: NV | M30: =SUM(C30:L30) -> 0
A31: New Hampshire | B31: NH | M31: =SUM(C31:L31) -> 0
A32: New Jersey | B32: NJ | M32: =SUM(C32:L32) -> 0
A33: New Mexico | B33: NM | M33: =SUM(C33:L33) -> 0
A34: New York | B34: NY | M34: =SUM(C34:L34) -> 0
A35: North Carolina | B35: NC | M35: =SUM(C35:L35) -> 0
A36: North Dakota | B36: ND | C36: 1 | E36: 1 | H36: 1 | K36: 1 | M36: =SUM(C36:L36) -> 4
A37: Ohio | B37: OH | C37: 1 | K37: 1 | M37: =SUM(C37:L37) -> 2
A38: Oklahoma | B38: OK | D38: 1 | J38: 1 | K38: 2 | L38: 4 | M38: =SUM(C38:L38) -> 8
A39: Oregon | B39: OR | M39: =SUM(C39:L39) -> 0
A40: Pennsylvania | B40: PA | M40: =SUM(C40:L40) -> 0
...
